BEGIN:VCALENDAR
VERSION:2.0
PRODID:-//wp-events-plugin.com//7.2.3.1//EN
TZID:America/Chicago
X-WR-TIMEZONE:America/Chicago
BEGIN:VEVENT
UID:6@hellagood.life
DTSTART;TZID=America/New_York:20250629T140000
DTEND;TZID=America/New_York:20250629T160000
DTSTAMP:20250613T212746Z
URL:https://www.hellagood.life/events/sacred-circles-a-2-hour-meditative-m
 andala-painting-class/
SUMMARY:Sacred Circles: 2-Hour Meditative Mandala Painting Class
DESCRIPTION:\n\n✨ A soulful art experience for anyone craving calm\, clar
 ity\, and creativity.\nStep into a circle of intention\, color\, and sacre
 d symbolism.Whether you're new to painting or seeking a deeper creative pr
 actice\, this 2-hour meditative mandala class will guide you inward — th
 rough breath\, brush\, and the beauty of the circle.\n\nWhat to Expect\nIn
  this live 2-hour painting experience\, you’ll:\n\n\n 	✨ Be guided thr
 ough a gentle meditation to center your energy\n 	Learn about the history 
 and meaning of mandalas across cultures\n 	Create your own unique mandala 
 with simple shapes and intuitive colors\n 	‍♀️ Experience mindfulnes
 s\, creativity\, and self-reflection in a nurturing space\n 	Leave with a 
 finished piece of art that reflects your inner world\n\n\n&nbsp\;\nThis Cl
 ass is Perfect For:\n&nbsp\;\n\n 	Beginners curious about mindful or spiri
 tual art\n 	Artists wanting to reconnect with their inner voice\n 	Anyone 
 feeling stressed\, blocked\, or burned out\n 	Creative souls who love beau
 ty\, symbols\, and meaning\n\n&nbsp\;\n\nWhat You'll Receive:\n\n 	2-hour 
 live guided class on Zoom (with recorded replays available)\n 	A calming m
 editation to spark intuitive flow\n 	A simple supply list + starter mandal
 a guide \n 	Creative prompts that help you tap into your emotions and inn
 er wisdom\n 	A safe\, non-judgmental space to express yourself freely\n\n\
 n&nbsp\;\nWhat You’ll Need:\n&nbsp\;\n\n 	Basic acrylic paints\n 	Brushe
 s or acrylic marker paint pens\n 	Canvas and paper\n 	A compass or somethi
 ng to trace a circle\n 	Your open heart and a little time to breathe\n\n(D
 on’t worry — we’ll send you a simple supply list before the event!)\
 n\n\n\nWhy Mandalas?\n&nbsp\;\nMandalas have been used for centuries as to
 ols for meditation\, self-discovery\, and spiritual connection. The circul
 ar form is a symbol of wholeness — and when you create from the center o
 ut\, you’re aligning with your natural rhythm and inner truth.\nThis isn
 ’t about being a perfect artist.It’s about being present\, playful\, a
 nd at peace.\n\n\nReserve Your Spot\n&nbsp\;\n\nJoin us for this special l
 ive class:️Date &amp\; Time: June 29 from 2:00 to 4:00 Eastern Time (1:0
 0 to 3:00 Central Time)Location: Online (Zoom link provided after sign-up)
 ️Investment: $25 per person\n\n&nbsp\;\nWant to Paint with a Friend?\nBr
 ing a buddy and paint together! Share the creative joy.\n\nLet the circle 
 lead you home to yourself.\n&nbsp\;\n\nExamples of my mandalas using these
  practices…\n\n      \n\n&nbsp\;\n\n&nbsp\;
ATTACH;FMTTYPE=image/jpeg:https://www.hellagood.life/wp-content/uploads/20
 25/06/mandala-painting-class-image.jpg
END:VEVENT
BEGIN:VTIMEZONE
TZID:America/New_York
X-LIC-LOCATION:America/New_York
BEGIN:DAYLIGHT
DTSTART:20250309T030000
TZOFFSETFROM:-0500
TZOFFSETTO:-0400
TZNAME:EDT
END:DAYLIGHT
END:VTIMEZONE
END:VCALENDAR