BEGIN:VCALENDAR
VERSION:2.0
PRODID:-//wp-events-plugin.com//7.2.3.1//EN
TZID:America/Chicago
X-WR-TIMEZONE:America/Chicago
BEGIN:VEVENT
UID:5@hellagood.life
DTSTART;TZID=America/Chicago:20250412T153000
DTEND;TZID=America/Chicago:20250412T173000
DTSTAMP:20250411T154846Z
URL:https://www.hellagood.life/events/paint-sip-painters-choice-sun-flower
 -box-or-easter-bunny/
SUMMARY:PAINT & SIP: Painter's Choice - Sun Flower Box or Easter Bunny
DESCRIPTION:\nPAINT &amp\; SIP: Painter's Choice\n2025 Spring\n&nbsp\;\n\nH
 ey friends we are doing a fun thing for this paint party. We're going to b
 e doing what is called a Painter's Choice party where you as the painter g
 et to choose either painting a ceramic BUNNY BOX or the wooden SUNFLOWER D
 ECORATIVE BOX.\n\n[caption id="attachment_25444" align="alignnone" width="
 300"] Ceramic Bunny Box[/caption]\n\n\n\nPainted Wooden Storage Box\n\n \n
 \n&nbsp\;\n\nPick the item that excites you. Both items can be used for ri
 ngs\, small trinkets\, or other items.\n\nAll supplies (box\, brushes\, pa
 ints\, aprons\, and instructions) are included. You just need to show up w
 ith an open mind and a can-do attitude. No painting or real art skills are
  required.  I try to use easy shapes and designs to make these paintings 
 fun and accessible to anyone.\n\nIf you would like your box to have the ba
 sic shapes traced onto your canvas to make things as easy as possible\, pl
 ease request pre-traced design in the comments and this will make it even 
 easier for those wanting a little extra support. For those wanting creativ
 e freedom to paint what you want let me know that and I will make sure you
  have everything you need to be successful.\n\nDale Berkebile is partnerin
 g with Fort Worth's St Matthew's Lutheran Church.\n\n\n\n&nbsp\;\nHOW TO B
 UY YOUR TICKET TO ATTEND THIS PAINTING EVENT\nSince it is PAINTER's CHOICE
  I'll need you to choose which painting you want to do.\nYour options are 
 that you can choose between painting a ceramic Bunny Box or a wooden Decor
 ative Box. So you first choice is…\n\n 	Bunny Box or\n 	Decorative Box\n
 \nThen you need to make another choice to decide if you would like to have
  the design outlines added to your box to make it as easy as possible to b
 e precise. I will tell you though this is fun painting so no need to get s
 tressed out about painting perfectly. You will do great with or without th
 e template design.\n\nSo the other option is that you will get a blank or 
 plain box and since it does not have the stenciled design on the box you g
 et to go rogue and paint the design by hand or totally get creative and do
  whatever you want.\n\nSo listed below you have 4 different options. Pick 
 the one that feels best for you.\nIf you have questions you can reach out 
 to me or leave a comment below.\n\nPlease Note April 5th is the cut-off da
 te to buy tickets so I can order all the supplies and have the designs ste
 nciled before the event.
ATTACH;FMTTYPE=image/jpeg:https://www.hellagood.life/wp-content/uploads/20
 25/02/Painters-Choice-Promo-Image.jpg
LOCATION:St. Matthew’s Lutheran Church Fort Worth\, 5709 Wedgwood Dr \, F
 ort Worth\, TX\, 76133\, United States
GEO:32.665419;-97.391706
X-APPLE-STRUCTURED-LOCATION;VALUE=URI;X-ADDRESS=5709 Wedgwood Dr \, Fort Wo
 rth\, TX\, 76133\, United States;X-APPLE-RADIUS=100;X-TITLE=St. Matthew’
 s Lutheran Church Fort Worth:geo:32.665419,-97.391706
END:VEVENT
BEGIN:VTIMEZONE
TZID:America/Chicago
X-LIC-LOCATION:America/Chicago
BEGIN:DAYLIGHT
DTSTART:20250309T030000
TZOFFSETFROM:-0600
TZOFFSETTO:-0500
TZNAME:CDT
END:DAYLIGHT
END:VTIMEZONE
END:VCALENDAR